BEGIN:VCALENDAR
VERSION:2.0
BEGIN:VEVENT
URL:https://tickets.avclive.com.au/outlet/event/fd2f92b8-ddc6-4d1b-9117-c10d9564bd85
DTSTART:20260522T100000Z
DTEND:20260522T100000Z
SUMMARY:Keys Gone Wild
DESCRIPTION:Event details: https://tickets.avclive.com.au/outlet/event/fd2f92b8-ddc6-4d1b-9117-c10d9564bd85
LOCATION:The Espy (St Kilda, VIC)
END:VEVENT
END:VCALENDAR