BEGIN:VCALENDAR
VERSION:2.0
BEGIN:VEVENT
URL:https://tickets.avclive.com.au/outlet/event/fbfd9a81-dbcf-4aac-a0a8-9602c9027f8d
DTSTART:20260619T113000Z
DTEND:20260619T113000Z
SUMMARY:HOT PINK PRIDE
DESCRIPTION:Event details: https://tickets.avclive.com.au/outlet/event/fbfd9a81-dbcf-4aac-a0a8-9602c9027f8d
LOCATION:Monsoons (Darwin, NT)
END:VEVENT
END:VCALENDAR