BEGIN:VCALENDAR
VERSION:2.0
BEGIN:VEVENT
URL:https://tickets.avclive.com.au/outlet/event/f371cf87-e857-4adc-a8ac-b930f36c9151
DTSTART:20260704T100000Z
DTEND:20260704T100000Z
SUMMARY:Alex Mather - Welcome to the Party Tour
DESCRIPTION:Event details: https://tickets.avclive.com.au/outlet/event/f371cf87-e857-4adc-a8ac-b930f36c9151
LOCATION:Metropolitan Hotel (Mackay, QLD)
END:VEVENT
END:VCALENDAR