BEGIN:VCALENDAR
VERSION:2.0
BEGIN:VEVENT
URL:https://tickets.avclive.com.au/outlet/event/f06673e7-ebf2-43c9-ace3-245fee9c53d0
DTSTART:20260611T093000Z
DTEND:20260611T093000Z
SUMMARY:Takashi Wakasugi - Wabi-Sabi Comedy
DESCRIPTION:Event details: https://tickets.avclive.com.au/outlet/event/f06673e7-ebf2-43c9-ace3-245fee9c53d0
LOCATION:The Bended Elbow ( Albury, NSW)
END:VEVENT
END:VCALENDAR