BEGIN:VCALENDAR
VERSION:2.0
BEGIN:VEVENT
URL:https://tickets.avclive.com.au/outlet/event/ec2538b2-4cab-42f7-a653-88d29bbf4acb
DTSTART:20260704T110000Z
DTEND:20260704T110000Z
SUMMARY:Lemonade: 10 Year Anniversary Party - Brisbane
DESCRIPTION:Event details: https://tickets.avclive.com.au/outlet/event/ec2538b2-4cab-42f7-a653-88d29bbf4acb
LOCATION:The Wickham (Fortitude Valley, QLD)
END:VEVENT
END:VCALENDAR