BEGIN:VCALENDAR
VERSION:2.0
BEGIN:VEVENT
URL:https://tickets.avclive.com.au/outlet/event/e9f41432-e1f7-4556-aa80-e469477b618c
DTSTART:20260710T080000Z
DTEND:20260710T080000Z
SUMMARY:Nearvana - The Annual All Ages Nirvana Experience
DESCRIPTION:Event details: https://tickets.avclive.com.au/outlet/event/e9f41432-e1f7-4556-aa80-e469477b618c
LOCATION:The Warehouse Bandroom  (Townsville, QLD)
END:VEVENT
END:VCALENDAR