BEGIN:VCALENDAR
VERSION:2.0
BEGIN:VEVENT
URL:https://tickets.avclive.com.au/outlet/event/e7d1c48d-05eb-4e76-bc56-67aeb41b3dad
DTSTART:20260606T110000Z
DTEND:20260606T110000Z
SUMMARY:No Scrubs - West Burleigh
DESCRIPTION:Event details: https://tickets.avclive.com.au/outlet/event/e7d1c48d-05eb-4e76-bc56-67aeb41b3dad
LOCATION:Burleigh Town Hotel (West Burleigh, QLD)
END:VEVENT
END:VCALENDAR