BEGIN:VCALENDAR
VERSION:2.0
BEGIN:VEVENT
URL:https://tickets.avclive.com.au/outlet/event/e6bc67a7-a34b-4af6-bfbb-1e714630a8b8
DTSTART:20260529T110000Z
DTEND:20260529T110000Z
SUMMARY:Justin Bieber Party - Brisbane
DESCRIPTION:Event details: https://tickets.avclive.com.au/outlet/event/e6bc67a7-a34b-4af6-bfbb-1e714630a8b8
LOCATION:The Wickham (Fortitude Valley, QLD)
END:VEVENT
END:VCALENDAR