BEGIN:VCALENDAR
VERSION:2.0
BEGIN:VEVENT
URL:https://tickets.avclive.com.au/outlet/event/e23e77b3-eb46-4462-9e3f-c5913167e305
DTSTART:20260502T080000Z
DTEND:20260502T080000Z
SUMMARY:MICHAEL PAYNTER
DESCRIPTION:Event details: https://tickets.avclive.com.au/outlet/event/e23e77b3-eb46-4462-9e3f-c5913167e305
LOCATION:Lefty's Music Hall (Brisbane, QLD)
END:VEVENT
END:VCALENDAR