BEGIN:VCALENDAR
VERSION:2.0
BEGIN:VEVENT
URL:https://tickets.avclive.com.au/outlet/event/def931a8-7b02-4e44-96d9-a988409f755f
DTSTART:20260612T110000Z
DTEND:20260612T110000Z
SUMMARY:You Seem Pretty Sad For A Girl So In Love Party - Melbourne
DESCRIPTION:Event details: https://tickets.avclive.com.au/outlet/event/def931a8-7b02-4e44-96d9-a988409f755f
LOCATION:Espy Gershwin (St Kilda, VIC)
END:VEVENT
END:VCALENDAR