BEGIN:VCALENDAR
VERSION:2.0
BEGIN:VEVENT
URL:https://tickets.avclive.com.au/outlet/event/ddb8b88b-9214-4c9b-bdef-8c0e1845290e
DTSTART:20260428T100000Z
DTEND:20260428T100000Z
SUMMARY:Tightarse Tuesdays @ The Hawthorn VIP
DESCRIPTION:Event details: https://tickets.avclive.com.au/outlet/event/ddb8b88b-9214-4c9b-bdef-8c0e1845290e
LOCATION:The Hawthorn Hotel (Hawthorn, VIC)
END:VEVENT
END:VCALENDAR