BEGIN:VCALENDAR
VERSION:2.0
BEGIN:VEVENT
URL:https://tickets.avclive.com.au/outlet/event/dba8bd04-9a05-4e56-a08d-ed83aecd0ed7
DTSTART:20260523T110000Z
DTEND:20260523T110000Z
SUMMARY:Gnarly | KPOP Night
DESCRIPTION:Event details: https://tickets.avclive.com.au/outlet/event/dba8bd04-9a05-4e56-a08d-ed83aecd0ed7
LOCATION:Prince Bandroom (St Kilda, VIC)
END:VEVENT
END:VCALENDAR