BEGIN:VCALENDAR
VERSION:2.0
BEGIN:VEVENT
URL:https://tickets.avclive.com.au/outlet/event/d82f5ce1-5a21-4110-87e6-5b8a4f95b664
DTSTART:20260725T110000Z
DTEND:20260725T110000Z
SUMMARY:HamilTown: Hamilton vs Hadestown Club Night - Brisbane
DESCRIPTION:Event details: https://tickets.avclive.com.au/outlet/event/d82f5ce1-5a21-4110-87e6-5b8a4f95b664
LOCATION:The Wickham (Fortitude Valley, QLD)
END:VEVENT
END:VCALENDAR