BEGIN:VCALENDAR
VERSION:2.0
BEGIN:VEVENT
URL:https://tickets.avclive.com.au/outlet/event/d6120447-3f15-40df-99b0-c5f89c6646e4
DTSTART:20260515T100000Z
DTEND:20260515T100000Z
SUMMARY:Keys Gone Wild
DESCRIPTION:Event details: https://tickets.avclive.com.au/outlet/event/d6120447-3f15-40df-99b0-c5f89c6646e4
LOCATION:The Espy (St Kilda, VIC)
END:VEVENT
END:VCALENDAR