BEGIN:VCALENDAR
VERSION:2.0
BEGIN:VEVENT
URL:https://tickets.avclive.com.au/outlet/event/d391bc38-f2e8-4634-9723-ff6c5fe5356c
DTSTART:20260529T083000Z
DTEND:20260529T083000Z
SUMMARY:All Star Tribute Show
DESCRIPTION:Event details: https://tickets.avclive.com.au/outlet/event/d391bc38-f2e8-4634-9723-ff6c5fe5356c
LOCATION:Old Bundy Tavern (Bundaberg, QLD)
END:VEVENT
END:VCALENDAR