BEGIN:VCALENDAR
VERSION:2.0
BEGIN:VEVENT
URL:https://tickets.avclive.com.au/outlet/event/d0555a30-38a8-4942-bbbc-4c2315c51abe
DTSTART:20260607T103000Z
DTEND:20260607T103000Z
SUMMARY:Lemonade: 10 Year Anniversary Party - Darwin
DESCRIPTION:Event details: https://tickets.avclive.com.au/outlet/event/d0555a30-38a8-4942-bbbc-4c2315c51abe
LOCATION:Monsoons (Darwin, NT)
END:VEVENT
END:VCALENDAR