BEGIN:VCALENDAR
VERSION:2.0
BEGIN:VEVENT
URL:https://tickets.avclive.com.au/outlet/event/c5e7d346-ebe7-4b25-a602-597ecbff6409
DTSTART:20260913T090000Z
DTEND:20260913T090000Z
SUMMARY:Blake Pavey: A Bit Scared
DESCRIPTION:Event details: https://tickets.avclive.com.au/outlet/event/c5e7d346-ebe7-4b25-a602-597ecbff6409
LOCATION:Old Bundy Tavern (Bundaberg, QLD)
END:VEVENT
END:VCALENDAR