BEGIN:VCALENDAR
VERSION:2.0
BEGIN:VEVENT
URL:https://tickets.avclive.com.au/outlet/event/c460af4b-bc78-4075-b070-7bb5d427d36c
DTSTART:20260703T090000Z
DTEND:20260703T090000Z
SUMMARY:LUCA BRASI - ITIAWGTB 10 YEAR ANNIVERSARY TOUR 2026
DESCRIPTION:Event details: https://tickets.avclive.com.au/outlet/event/c460af4b-bc78-4075-b070-7bb5d427d36c
LOCATION:The Warehouse Bandroom  (Townsville, QLD)
END:VEVENT
END:VCALENDAR