BEGIN:VCALENDAR
VERSION:2.0
BEGIN:VEVENT
URL:https://tickets.avclive.com.au/outlet/event/c2e67d53-bca7-4019-bfa9-fef0b41142ee
DTSTART:20260822T100000Z
DTEND:20260822T100000Z
SUMMARY:Sunny Coast Rude Boys
DESCRIPTION:Event details: https://tickets.avclive.com.au/outlet/event/c2e67d53-bca7-4019-bfa9-fef0b41142ee
LOCATION:Royal Quarters (Nundah, QLD)
END:VEVENT
END:VCALENDAR