BEGIN:VCALENDAR
VERSION:2.0
BEGIN:VEVENT
URL:https://tickets.avclive.com.au/outlet/event/bf20e549-5946-4c99-8264-fdb14fbdf212
DTSTART:20260814T100000Z
DTEND:20260814T100000Z
SUMMARY:Cool Britannia
DESCRIPTION:Event details: https://tickets.avclive.com.au/outlet/event/bf20e549-5946-4c99-8264-fdb14fbdf212
LOCATION:Royal Quarters (Nundah, QLD)
END:VEVENT
END:VCALENDAR