BEGIN:VCALENDAR
VERSION:2.0
BEGIN:VEVENT
URL:https://tickets.avclive.com.au/outlet/event/bd1e1894-972e-44a8-ba7f-f68f0c6428de
DTSTART:20260531T120000Z
DTEND:20260531T120000Z
SUMMARY:BAILE INoLVIDABLE: Bad Bunny Appreciation Party - Perth
DESCRIPTION:Event details: https://tickets.avclive.com.au/outlet/event/bd1e1894-972e-44a8-ba7f-f68f0c6428de
LOCATION:The Court Hotel (Perth, WA)
END:VEVENT
END:VCALENDAR