BEGIN:VCALENDAR
VERSION:2.0
BEGIN:VEVENT
URL:https://tickets.avclive.com.au/outlet/event/ba593ada-9951-4c32-abed-3e55ac9632d4
DTSTART:20260607T110000Z
DTEND:20260607T110000Z
SUMMARY:Resonance ft. Massano, MAMI + more.
DESCRIPTION:Event details: https://tickets.avclive.com.au/outlet/event/ba593ada-9951-4c32-abed-3e55ac9632d4
LOCATION:Prince Bandroom (St Kilda, VIC)
END:VEVENT
END:VCALENDAR