BEGIN:VCALENDAR
VERSION:2.0
BEGIN:VEVENT
URL:https://tickets.avclive.com.au/outlet/event/aa030acc-8aba-439f-99c5-3f08717f8ffb
DTSTART:20260612T130000Z
DTEND:20260612T130000Z
SUMMARY:You Seem Pretty Sad For A Girl So In Love Party - Perth
DESCRIPTION:Event details: https://tickets.avclive.com.au/outlet/event/aa030acc-8aba-439f-99c5-3f08717f8ffb
LOCATION:The Court Hotel (Perth, WA)
END:VEVENT
END:VCALENDAR