BEGIN:VCALENDAR
VERSION:2.0
BEGIN:VEVENT
URL:https://tickets.avclive.com.au/outlet/event/a843f3c8-b98c-467d-912f-09f5cc22e2f8
DTSTART:20260501T093000Z
DTEND:20260501T093000Z
SUMMARY:Ray Beadle FREE ENTEY
DESCRIPTION:Event details: https://tickets.avclive.com.au/outlet/event/a843f3c8-b98c-467d-912f-09f5cc22e2f8
LOCATION:Koala Tavern (Capalaba, QLD)
END:VEVENT
END:VCALENDAR