BEGIN:VCALENDAR
VERSION:2.0
BEGIN:VEVENT
URL:https://tickets.avclive.com.au/outlet/event/9a174d7f-878e-4c62-908e-0797e6260b73
DTSTART:20260905T093000Z
DTEND:20260905T093000Z
SUMMARY:Blake Pavey: A Bit Scared
DESCRIPTION:Event details: https://tickets.avclive.com.au/outlet/event/9a174d7f-878e-4c62-908e-0797e6260b73
LOCATION:The Warehouse Bandroom  (Townsville, QLD)
END:VEVENT
END:VCALENDAR