BEGIN:VCALENDAR
VERSION:2.0
BEGIN:VEVENT
URL:https://tickets.avclive.com.au/outlet/event/9307d4e3-a301-413b-ab27-181683d6a013
DTSTART:20260627T110000Z
DTEND:20260627T110000Z
SUMMARY:BAILE INoLVIDABLE: Bad Bunny Appreciation Party - Brisbane 2ND SHOW ADDED
DESCRIPTION:Event details: https://tickets.avclive.com.au/outlet/event/9307d4e3-a301-413b-ab27-181683d6a013
LOCATION:The Wickham (Fortitude Valley, QLD)
END:VEVENT
END:VCALENDAR