BEGIN:VCALENDAR
VERSION:2.0
BEGIN:VEVENT
URL:https://tickets.avclive.com.au/outlet/event/92012e40-cab2-4e40-acad-188a2a0b798d
DTSTART:20261031T100000Z
DTEND:20261031T100000Z
SUMMARY:Cool Britannia
DESCRIPTION:Event details: https://tickets.avclive.com.au/outlet/event/92012e40-cab2-4e40-acad-188a2a0b798d
LOCATION:Jindalee Hotel (Jindalee, QLD)
END:VEVENT
END:VCALENDAR