BEGIN:VCALENDAR
VERSION:2.0
BEGIN:VEVENT
URL:https://tickets.avclive.com.au/outlet/event/8c99a477-947a-413b-b1ac-608c79cb20f1
DTSTART:20260701T010000Z
DTEND:20260701T010000Z
SUMMARY:Canada Day
DESCRIPTION:Event details: https://tickets.avclive.com.au/outlet/event/8c99a477-947a-413b-b1ac-608c79cb20f1
LOCATION:The Wharf Hotel (Melbourne, VIC)
END:VEVENT
END:VCALENDAR