BEGIN:VCALENDAR
VERSION:2.0
BEGIN:VEVENT
URL:https://tickets.avclive.com.au/outlet/event/89605a1e-3729-4ada-b4bb-0d1697fdc190
DTSTART:20261016T080000Z
DTEND:20261016T080000Z
SUMMARY:GHOSTS OF GRUNGE: The Voices That Lived Loud and Died Young
DESCRIPTION:Event details: https://tickets.avclive.com.au/outlet/event/89605a1e-3729-4ada-b4bb-0d1697fdc190
LOCATION:Prince Bandroom (St Kilda, VIC)
END:VEVENT
END:VCALENDAR