BEGIN:VCALENDAR
VERSION:2.0
BEGIN:VEVENT
URL:https://tickets.avclive.com.au/outlet/event/70ff2e29-a584-4c95-be68-8ba4d608ab86
DTSTART:20260522T080000Z
DTEND:20260522T080000Z
SUMMARY:Common Sound 2026 - Fundraising Concert to Help End Homelessness
DESCRIPTION:Event details: https://tickets.avclive.com.au/outlet/event/70ff2e29-a584-4c95-be68-8ba4d608ab86
LOCATION:Lefty's Music Hall (Brisbane, QLD)
END:VEVENT
END:VCALENDAR