BEGIN:VCALENDAR
VERSION:2.0
BEGIN:VEVENT
URL:https://tickets.avclive.com.au/outlet/event/67d21106-dd7c-4d97-8ed7-46f78066df94
DTSTART:20260723T113000Z
DTEND:20260723T113000Z
SUMMARY:TIPSY'S MADHOUSE
DESCRIPTION:Event details: https://tickets.avclive.com.au/outlet/event/67d21106-dd7c-4d97-8ed7-46f78066df94
LOCATION:Monsoons (Darwin, NT)
END:VEVENT
END:VCALENDAR