BEGIN:VCALENDAR
VERSION:2.0
BEGIN:VEVENT
URL:https://tickets.avclive.com.au/outlet/event/6433b4f9-da57-43fb-bb34-e5ee89c72a17
DTSTART:20260529T113000Z
DTEND:20260529T113000Z
SUMMARY:HORNOGRAPHY
DESCRIPTION:Event details: https://tickets.avclive.com.au/outlet/event/6433b4f9-da57-43fb-bb34-e5ee89c72a17
LOCATION:Milk Bar (Inglewood, WA)
END:VEVENT
END:VCALENDAR