BEGIN:VCALENDAR
VERSION:2.0
BEGIN:VEVENT
URL:https://tickets.avclive.com.au/outlet/event/5a9eb299-1102-47f2-a7d3-ed61a9814839
DTSTART:20260426T060000Z
DTEND:20260426T060000Z
SUMMARY:CANCELLED - A Very Very Gay - Day Party - Boorloo / Perth
DESCRIPTION:Event details: https://tickets.avclive.com.au/outlet/event/5a9eb299-1102-47f2-a7d3-ed61a9814839
LOCATION:The Court Hotel (Perth, WA)
END:VEVENT
END:VCALENDAR