BEGIN:VCALENDAR
VERSION:2.0
BEGIN:VEVENT
URL:https://tickets.avclive.com.au/outlet/event/535729dd-a334-41b1-a06e-37ffa8c49864
DTSTART:20260516T050000Z
DTEND:20260516T050000Z
SUMMARY:A Very Very Gay - Day Party -  Meanjin / Brisbane
DESCRIPTION:Event details: https://tickets.avclive.com.au/outlet/event/535729dd-a334-41b1-a06e-37ffa8c49864
LOCATION:The Wickham (Fortitude Valley, QLD)
END:VEVENT
END:VCALENDAR