BEGIN:VCALENDAR
VERSION:2.0
BEGIN:VEVENT
URL:https://tickets.avclive.com.au/outlet/event/4c20d231-dc31-4c9e-bc9c-0b7628706159
DTSTART:20260612T110000Z
DTEND:20260612T110000Z
SUMMARY:You Seem Pretty Sad For A Girl So In Love Party - Brisbane
DESCRIPTION:Event details: https://tickets.avclive.com.au/outlet/event/4c20d231-dc31-4c9e-bc9c-0b7628706159
LOCATION:The Wickham (Fortitude Valley, QLD)
END:VEVENT
END:VCALENDAR