BEGIN:VCALENDAR
VERSION:2.0
BEGIN:VEVENT
URL:https://tickets.avclive.com.au/outlet/event/3a3999b0-b5cd-4966-b705-3300f3cabfe1
DTSTART:20260725T100000Z
DTEND:20260725T100000Z
SUMMARY:Sunny Coast Rude Boys
DESCRIPTION:Event details: https://tickets.avclive.com.au/outlet/event/3a3999b0-b5cd-4966-b705-3300f3cabfe1
LOCATION:Burleigh Town Hotel (West Burleigh, QLD)
END:VEVENT
END:VCALENDAR