BEGIN:VCALENDAR
VERSION:2.0
BEGIN:VEVENT
URL:https://tickets.avclive.com.au/outlet/event/30e627a6-9bc5-4636-9ebe-e9e0d898581c
DTSTART:20260523T110000Z
DTEND:20260523T110000Z
SUMMARY:ALTA FIESTA – ANNIVERSARY
DESCRIPTION:Event details: https://tickets.avclive.com.au/outlet/event/30e627a6-9bc5-4636-9ebe-e9e0d898581c
LOCATION:Burleigh Town Hotel (West Burleigh, QLD)
END:VEVENT
END:VCALENDAR