BEGIN:VCALENDAR
VERSION:2.0
BEGIN:VEVENT
URL:https://tickets.avclive.com.au/outlet/event/2e44b048-ba14-4e56-8157-17a3488733e4
DTSTART:20260530T100000Z
DTEND:20260530T100000Z
SUMMARY:Stand-up Comedy in Roma
DESCRIPTION:Event details: https://tickets.avclive.com.au/outlet/event/2e44b048-ba14-4e56-8157-17a3488733e4
LOCATION:The White Bull Tavern (Roma, QLD)
END:VEVENT
END:VCALENDAR