BEGIN:VCALENDAR
VERSION:2.0
BEGIN:VEVENT
URL:https://tickets.avclive.com.au/outlet/event/2bd49e35-cfa9-4305-9c36-8a00529d8372
DTSTART:20260912T010000Z
DTEND:20260912T010000Z
SUMMARY:Rock Beats Depression
DESCRIPTION:Event details: https://tickets.avclive.com.au/outlet/event/2bd49e35-cfa9-4305-9c36-8a00529d8372
LOCATION:Mansfield Arena (Mansfield, QLD)
END:VEVENT
END:VCALENDAR