BEGIN:VCALENDAR
VERSION:2.0
BEGIN:VEVENT
URL:https://tickets.avclive.com.au/outlet/event/29b8d538-f7f9-49cb-a2bf-0aec87b28a00
DTSTART:20260423T120000Z
DTEND:20260423T120000Z
SUMMARY:Sally's COPS AND ROBBERS PARTY
DESCRIPTION:Event details: https://tickets.avclive.com.au/outlet/event/29b8d538-f7f9-49cb-a2bf-0aec87b28a00
LOCATION:The Court Hotel (Perth, WA)
END:VEVENT
END:VCALENDAR