BEGIN:VCALENDAR
VERSION:2.0
BEGIN:VEVENT
URL:https://tickets.avclive.com.au/outlet/event/1c833b0b-001d-442c-89a4-9823819343da
DTSTART:20260529T100000Z
DTEND:20260529T100000Z
SUMMARY:Keys Gone Wild
DESCRIPTION:Event details: https://tickets.avclive.com.au/outlet/event/1c833b0b-001d-442c-89a4-9823819343da
LOCATION:The Espy (St Kilda, VIC)
END:VEVENT
END:VCALENDAR