BEGIN:VCALENDAR
VERSION:2.0
BEGIN:VEVENT
URL:https://tickets.avclive.com.au/outlet/event/0f7a116d-4ef0-41ae-81d7-c71fc57a8f5a
DTSTART:20261030T090000Z
DTEND:20261030T090000Z
SUMMARY:Alex Lloyd
DESCRIPTION:Event details: https://tickets.avclive.com.au/outlet/event/0f7a116d-4ef0-41ae-81d7-c71fc57a8f5a
LOCATION:Royal Quarters (Nundah, QLD)
END:VEVENT
END:VCALENDAR