BEGIN:VCALENDAR
VERSION:2.0
BEGIN:VEVENT
URL:https://tickets.avclive.com.au/outlet/event/01d7de22-a4ff-4dda-ab1c-5fc55098a0c2
DTSTART:20260613T100000Z
DTEND:20260613T100000Z
SUMMARY:RAINBOW RAVE
DESCRIPTION:Event details: https://tickets.avclive.com.au/outlet/event/01d7de22-a4ff-4dda-ab1c-5fc55098a0c2
LOCATION:The Mansfield (Townsville, QLD)
END:VEVENT
END:VCALENDAR