BEGIN:VCALENDAR
VERSION:2.0
BEGIN:VEVENT
URL:https://tickets.avclive.com.au/outlet/event/0174e281-e361-4d5a-a42e-ace53bc9476d
DTSTART:20260620T083000Z
DTEND:20260620T083000Z
SUMMARY:Hops and Harmony - The Greatest Hits Singalong
DESCRIPTION:Event details: https://tickets.avclive.com.au/outlet/event/0174e281-e361-4d5a-a42e-ace53bc9476d
LOCATION:Jindalee Hotel (Jindalee, QLD)
END:VEVENT
END:VCALENDAR